BEGIN:VCALENDAR
VERSION:2.0
PRODID:-//School For Friends - ECPv6.3.5//NONSGML v1.0//EN
CALSCALE:GREGORIAN
METHOD:PUBLISH
X-WR-CALNAME:School For Friends
X-ORIGINAL-URL:https://www.schoolforfriends.org
X-WR-CALDESC:Events for School For Friends
REFRESH-INTERVAL;VALUE=DURATION:PT1H
X-Robots-Tag:noindex
X-PUBLISHED-TTL:PT1H
BEGIN:VTIMEZONE
TZID:America/New_York
BEGIN:DAYLIGHT
TZOFFSETFROM:-0500
TZOFFSETTO:-0400
TZNAME:EDT
DTSTART:20260308T070000
END:DAYLIGHT
BEGIN:STANDARD
TZOFFSETFROM:-0400
TZOFFSETTO:-0500
TZNAME:EST
DTSTART:20261101T060000
END:STANDARD
END:VTIMEZONE
BEGIN:VEVENT
DTSTART;VALUE=DATE:20260508
DTEND;VALUE=DATE:20260509
DTSTAMP:20260424T094233
CREATED:20250825T011514Z
LAST-MODIFIED:20250825T011514Z
UID:8084-1778198400-1778284799@www.schoolforfriends.org
SUMMARY:Staff Professional Development
DESCRIPTION:No School for Children
URL:https://www.schoolforfriends.org/event/staff-professional-development-3/
END:VEVENT
BEGIN:VEVENT
DTSTART;TZID=America/New_York:20260502T110000
DTEND;TZID=America/New_York:20260502T140000
DTSTAMP:20260424T094233
CREATED:20250825T011434Z
LAST-MODIFIED:20250825T011434Z
UID:8082-1777719600-1777730400@www.schoolforfriends.org
SUMMARY:Childrens Fair (rain date May 16th)
DESCRIPTION:
URL:https://www.schoolforfriends.org/event/childrens-fair-rain-date-may-16th/
END:VEVENT
BEGIN:VEVENT
DTSTART;VALUE=DATE:20260416
DTEND;VALUE=DATE:20260417
DTSTAMP:20260424T094233
CREATED:20250825T011341Z
LAST-MODIFIED:20250825T011341Z
UID:8080-1776297600-1776383999@www.schoolforfriends.org
SUMMARY:Emancipation Day
DESCRIPTION:School Closed
URL:https://www.schoolforfriends.org/event/emancipation-day/
END:VEVENT
BEGIN:VEVENT
DTSTART;VALUE=DATE:20260410
DTEND;VALUE=DATE:20260411
DTSTAMP:20260424T094233
CREATED:20250825T011254Z
LAST-MODIFIED:20250825T011254Z
UID:8078-1775779200-1775865599@www.schoolforfriends.org
SUMMARY:Family-Teacher Conferences
DESCRIPTION:No School for Children
URL:https://www.schoolforfriends.org/event/family-teacher-conferences/
END:VEVENT
END:VCALENDAR